BEGIN:VCALENDAR
VERSION:2.0
PRODID:-//Tobermory Food Bank - ECPv6.15.17//NONSGML v1.0//EN
CALSCALE:GREGORIAN
METHOD:PUBLISH
X-ORIGINAL-URL:https://tobermoryfoodbank.ca
X-WR-CALDESC:Events for Tobermory Food Bank
REFRESH-INTERVAL;VALUE=DURATION:PT1H
X-Robots-Tag:noindex
X-PUBLISHED-TTL:PT1H
BEGIN:VTIMEZONE
TZID:UTC
BEGIN:STANDARD
TZOFFSETFROM:+0000
TZOFFSETTO:+0000
TZNAME:UTC
DTSTART:20240101T000000
END:STANDARD
END:VTIMEZONE
BEGIN:VEVENT
DTSTART;TZID=UTC:20250522T110000
DTEND;TZID=UTC:20250522T130000
DTSTAMP:20260421T101615
CREATED:20250612T202920Z
LAST-MODIFIED:20250612T203539Z
UID:1094-1747911600-1747918800@tobermoryfoodbank.ca
SUMMARY:World Hunger Day - Charity BBQ Fundraiser
DESCRIPTION:The Tobermory Food Bank will be barbecuing hotdogs in front of Peacock’s Foodland from 11 am – 1:00 pm\, to help raise awareness of World Hunger. Without the continued support of our Businesses\, Community\, and Neighbours\, we would not be able to assist our community members in times of need!
URL:https://tobermoryfoodbank.ca/event/world-hunger-day-charity-bbq-fundraiser/
LOCATION:Peacock’s Foodland\, 7357 Highway 6\, Tobermory\, Ontario\, N0H 2R0\, Canada
CATEGORIES:Fundraisers
ATTACH;FMTTYPE=image/jpeg:https://tobermoryfoodbank.ca/wp-content/uploads/2025/06/bbq-fundraiser.jpg
END:VEVENT
END:VCALENDAR