BEGIN:VCALENDAR
VERSION:2.0
PRODID:-//Tobermory Food Bank - ECPv6.15.17//NONSGML v1.0//EN
CALSCALE:GREGORIAN
METHOD:PUBLISH
X-WR-CALNAME:Tobermory Food Bank
X-ORIGINAL-URL:https://tobermoryfoodbank.ca
X-WR-CALDESC:Events for Tobermory Food Bank
REFRESH-INTERVAL;VALUE=DURATION:PT1H
X-Robots-Tag:noindex
X-PUBLISHED-TTL:PT1H
BEGIN:VTIMEZONE
TZID:UTC
BEGIN:STANDARD
TZOFFSETFROM:+0000
TZOFFSETTO:+0000
TZNAME:UTC
DTSTART:20240101T000000
END:STANDARD
END:VTIMEZONE
BEGIN:VEVENT
DTSTART;TZID=UTC:20251014T110000
DTEND;TZID=UTC:20251014T123000
DTSTAMP:20260422T103145
CREATED:20250901T123724Z
LAST-MODIFIED:20251008T124157Z
UID:1165-1760439600-1760445000@tobermoryfoodbank.ca
SUMMARY:TFB Client Day at the Thrift Shop
DESCRIPTION:Tobermory Food Bank clients are invited to the Thrift Shop for this private event to shop at their leisure and choose any items they may require at no cost
URL:https://tobermoryfoodbank.ca/event/tfb-client-day-at-the-thrift-shop-3/
LOCATION:Tobermory Thrift Shop\, 7097 Highway 6\, Tobermory\, Ontario\, N0H 2R0\, Canada
END:VEVENT
END:VCALENDAR