BEGIN:VCALENDAR
VERSION:2.0
PRODID:-//Tobermory Food Bank - ECPv6.15.17//NONSGML v1.0//EN
CALSCALE:GREGORIAN
METHOD:PUBLISH
X-ORIGINAL-URL:https://tobermoryfoodbank.ca
X-WR-CALDESC:Events for Tobermory Food Bank
REFRESH-INTERVAL;VALUE=DURATION:PT1H
X-Robots-Tag:noindex
X-PUBLISHED-TTL:PT1H
BEGIN:VTIMEZONE
TZID:America/Toronto
BEGIN:DAYLIGHT
TZOFFSETFROM:-0500
TZOFFSETTO:-0400
TZNAME:EDT
DTSTART:20240310T070000
END:DAYLIGHT
BEGIN:STANDARD
TZOFFSETFROM:-0400
TZOFFSETTO:-0500
TZNAME:EST
DTSTART:20241103T060000
END:STANDARD
BEGIN:DAYLIGHT
TZOFFSETFROM:-0500
TZOFFSETTO:-0400
TZNAME:EDT
DTSTART:20250309T070000
END:DAYLIGHT
BEGIN:STANDARD
TZOFFSETFROM:-0400
TZOFFSETTO:-0500
TZNAME:EST
DTSTART:20251102T060000
END:STANDARD
BEGIN:DAYLIGHT
TZOFFSETFROM:-0500
TZOFFSETTO:-0400
TZNAME:EDT
DTSTART:20260308T070000
END:DAYLIGHT
BEGIN:STANDARD
TZOFFSETFROM:-0400
TZOFFSETTO:-0500
TZNAME:EST
DTSTART:20261101T060000
END:STANDARD
END:VTIMEZONE
BEGIN:VEVENT
DTSTART;TZID=America/Toronto:20251104T110000
DTEND;TZID=America/Toronto:20251104T120000
DTSTAMP:20260422T141149
CREATED:20250613T122419Z
LAST-MODIFIED:20250613T123702Z
UID:1107-1762254000-1762257600@tobermoryfoodbank.ca
SUMMARY:TFB Volunteer Meeting
DESCRIPTION:Curious about what we do? Join us for our monthly (1 hour!) volunteer meeting to learn more about the operational priorities of the Tobermory Food Bank.  New volunteers always welcome.
URL:https://tobermoryfoodbank.ca/event/tfb-volunteer-meeting-3/
LOCATION:Tobermory Food Bank\, 20 Centennial Drive\, Tobermory\, Ontario\, N0H 2R0\, Canada
ATTACH;FMTTYPE=image/jpeg:https://tobermoryfoodbank.ca/wp-content/uploads/2025/06/volunteer-meeting.jpg
END:VEVENT
END:VCALENDAR