BEGIN:VCALENDAR
VERSION:2.0
PRODID:-//Tobermory Food Bank - ECPv6.15.17//NONSGML v1.0//EN
CALSCALE:GREGORIAN
METHOD:PUBLISH
X-ORIGINAL-URL:https://tobermoryfoodbank.ca
X-WR-CALDESC:Events for Tobermory Food Bank
REFRESH-INTERVAL;VALUE=DURATION:PT1H
X-Robots-Tag:noindex
X-PUBLISHED-TTL:PT1H
BEGIN:VTIMEZONE
TZID:UTC
BEGIN:STANDARD
TZOFFSETFROM:+0000
TZOFFSETTO:+0000
TZNAME:UTC
DTSTART:20230101T000000
END:STANDARD
END:VTIMEZONE
BEGIN:VEVENT
DTSTART;VALUE=DATE:20241202
DTEND;VALUE=DATE:20241225
DTSTAMP:20260419T222216
CREATED:20241213T123624Z
LAST-MODIFIED:20241213T124111Z
UID:910-1733097600-1735084799@tobermoryfoodbank.ca
SUMMARY:Holiday Donation Program
DESCRIPTION:Visit our friends at Peacock’s Foodland in Tobermory to participate in this Holiday Donation program in support of the Tobermory Food Bank. \nThere’s more! On Saturday\, December 14th\, Sobey’s Corporation will match all customer donations. \nLet’s level up and help Ashleigh surpass the goal on that awesome big red fundraising thermometer!
URL:https://tobermoryfoodbank.ca/event/holiday-donation-program/
LOCATION:Peacock’s Foodland\, 7357 Highway 6\, Tobermory\, Ontario\, N0H 2R0\, Canada
CATEGORIES:Fundraisers
ATTACH;FMTTYPE=image/jpeg:https://tobermoryfoodbank.ca/wp-content/uploads/2024/12/2024-12-12-Foodland-Holiday-Drive.jpg
END:VEVENT
END:VCALENDAR